BEGIN:VCALENDAR
VERSION:2.0
PRODID:-//ExpressionEngine Easy iCalendar plugin//NONSGML v2.0.1//EN
X-WR-TIMEZONE:America/Denver
X-WR-CALNAME:Upcoming Auctions
BEGIN:VEVENT
UID:161114
DTSTAMP:20260424T140000
DTSTART:20260424T140000
DTEND:20260520T140000
SUMMARY:DENVER - Selection of New Laminate Hardwood Flooring
LOCATION:{location}
DESCRIPTION:DENVER - Selection of New Laminate Hardwood Flooring INSPECT
 ION: Wednesday\, May 20th 10:00 AM - 2:00 PM MT STAGGERED ONL
 INE BIDDING ENDS: Wednesday\, May 20th 2:00 PM MT PAYMENT DEA
 DLINE: Thursday\, May 21st no later than 5:00 PM MT REMOVAL: 
 Thursday\, May 21st or Friday\, May 22nd 9:00 AM - 5:00 PM MT 
 ADDRESS: 1501 W Wesley Avenue\, Denver\, CO 80223
URL:https://www.dickensheet.com/auctions/detail/bw161114
SEQUENCE:1
END:VEVENT
END:VCALENDAR