BEGIN:VCALENDAR
VERSION:2.0
PRODID:-//ExpressionEngine Easy iCalendar plugin//NONSGML v2.0.0//EN
X-WR-TIMEZONE:America/Denver
X-WR-CALNAME:Upcoming Auctions
BEGIN:VEVENT
UID:160871
DTSTAMP:20260421T120500
DTSTART:20260421T120500
DTEND:20260428T140000
SUMMARY:CENTENNIAL-Dream Dinners\, This Location Only
LOCATION:7286 S Yosemite Street Ste. 120\, Centennial\, CO 80112\, US
DESCRIPTION:CENTENNIAL-Dream Dinners\, This Location Only STAGGERED ONLIN
 E BIDDING ENDS: Tuesday\, April 28th 2:00 PM MT REMOVAL: Wedn
 esday\, April 29th 9:00 AM - 5:00 PM MT ADDRESS: 7286 S Yosem
 ite Street\, Suite 120\, Centennial\, CO 80112 Any and all issu
 es need to be fully resolved prior to leaving auction site. 
 MATTERS TO CONSIDER BEFORE PARTICIPATING 13% buyer's premium
  is charged on all purchases for cash\, wire transfer\, Zelle
 \, cashier's check. 15% buyer's premium for credit card and c
 onvenience fee-Visa\, MasterCard\, Discover\, American Express.
URL:https://www.dickensheet.com/auctions/detail/bw160871
SEQUENCE:1
END:VEVENT
END:VCALENDAR