BEGIN:VCALENDAR
VERSION:2.0
PRODID:-//ExpressionEngine Easy iCalendar plugin//NONSGML v2.0.0//EN
X-WR-TIMEZONE:America/Denver
X-WR-CALNAME:Upcoming Auctions
BEGIN:VEVENT
UID:160852
DTSTAMP:20260421T103500
DTSTART:20260421T103500
DTEND:20260501T120000
SUMMARY:DENVER - Ay Cabron Bar and Grill-Including Liquor
LOCATION:3780 Peoria Street\, Denver\, CO 80239\, US
DESCRIPTION:DENVER - Ay Cabron Bar and Grill-Including Liquor On Behalf 
 Of The Colorado Department Of Revenue\, ALL ITEMS WILL BE OFF
 ERED IN BULK\, THEN PIECEMEAL AND AWARDED IN THE HIGHEST MANN
 ER. ONLINE STAGGERED BIDDING ENDS: Friday\, May 1st 12:00 PM 
 MT PAYMENT DEADLINE: Monday\, May 4th no later than 12:00 PM 
 MT REMOVAL: Monday\, May 4th 9:00 AM - 5:00 PM MT ADDRESS: 37
 80 Peoria Street\, Denver\, CO 80239 Any and all disputes will
  need to be fully rectified prior to leaving the auction sit
 e. PURCHASER OR AUTHORIZED THIRD PARTY TO RELOCATE-CHECK IN 
 WITH AUCTION TEAM UPON ARRIVAL with a paid invoice. 13% buye
 r's premium is charged on all purchases.
URL:https://www.dickensheet.com/auctions/detail/bw160852
SEQUENCE:1
END:VEVENT
END:VCALENDAR