BEGIN:VCALENDAR
VERSION:2.0
PRODID:-//ExpressionEngine Easy iCalendar plugin//NONSGML v2.0.1//EN
X-WR-TIMEZONE:America/Denver
X-WR-CALNAME:Upcoming Auctions
BEGIN:VEVENT
UID:128152
DTSTAMP:20240920T120000
DTSTART:20240920T120000
DTEND:20241003T120000
SUMMARY:OVERSTOCK MOHAWK FLOORING INVENTORY
LOCATION:1501 W Wesley Ave\, Denver\, CO 80223\, US
DESCRIPTION:OVERSTOCK MOHAWK FLOORING INVENTORY STAGGERED BIDDING ENDS: 
 Thursday\, October 3rd - 12:00 PM INSPECTION: Monday-Friday 9
 :00 AM - 5:00 PM MT REMOVAL: Friday\, October 4th 9:00 AM - 5
 :00 PM LOCATION: Dickensheet and Associates\, Inc.\, 1501 West
  Wesley Avenue\, Denver\, CO 80223 www.Dickensheet.com  303-9
 34-8322
URL:https://www.dickensheet.com/auctions/detail/bw128152
SEQUENCE:1
END:VEVENT
END:VCALENDAR